BEGIN:VCALENDAR
VERSION:2.0
PRODID:-//EIROforum - ECPv5.16.1//NONSGML v1.0//EN
CALSCALE:GREGORIAN
METHOD:PUBLISH
X-WR-CALNAME:EIROforum
X-ORIGINAL-URL:https://www.eiroforum.org
X-WR-CALDESC:Events for EIROforum
BEGIN:VTIMEZONE
TZID:Europe/Berlin
BEGIN:DAYLIGHT
TZOFFSETFROM:+0100
TZOFFSETTO:+0200
TZNAME:CEST
DTSTART:20200329T010000
END:DAYLIGHT
BEGIN:STANDARD
TZOFFSETFROM:+0200
TZOFFSETTO:+0100
TZNAME:CET
DTSTART:20201025T010000
END:STANDARD
END:VTIMEZONE
BEGIN:VEVENT
DTSTART;VALUE=DATE:20200401
DTEND;VALUE=DATE:20200404
DTSTAMP:20260426T013709
CREATED:20200122T161211Z
LAST-MODIFIED:20200122T161211Z
UID:99494-1585699200-1585958399@www.eiroforum.org
SUMMARY:WAM2020 - Workshop on Additive Manufacturing 2020
DESCRIPTION:WAM2020 – The challenges of industrialisation in metal additive manufacturing: what the combination of large instruments and models brings. \nThe Laue–Langevin Institute and the ESRF are organising WAM2020 “Workshop on Additive Manufacturing” from 1–3 April 2020 in Grenoble\, France\, with the support of CEA-LITEN. \nThis event is intended for industrialists and academic groups working with industry. The aim is to highlight the latest developments in terms of advanced characterisation – with large instruments in particular – and their coupling with modelling to make manufacturing processes more reliable. The pooling of fundamental knowledge is becoming necessary in order to bring this technology to a high level of reliability. The event is also an opportunity to discuss future projects involving research and industry. \nContact:\nEmail: industry@ill.eu\nPhone: +33 476 207 104
URL:https://www.eiroforum.org/event/wam2020-workshop-additive-manufacturing-2020/
LOCATION:Institut Laue-Langevin (ILL)\, 71 avenue des Martyrs\, Grenoble\, 38000\, France
ATTACH;FMTTYPE=image/png:https://www.eiroforum.org/wp-content/uploads/wam2020.png
END:VEVENT
END:VCALENDAR